View In:
ArcGIS JavaScript
EEA Discomap Portal
ArcGIS Earth
Service Description: Bathymetric data has been downloaded in ascii format from EMODnet portal http://portal.emodnet-bathymetry.eu/mean-depth-rainbow-colour-ramp-no-land-data?menu=19.Starting from this data we create a raster tif with best characteristics for a fast and accurate bathymetry image web service.
Name: Marine/Bathymetry
Description: Bathymetric data has been downloaded in ascii format from EMODnet portal http://portal.emodnet-bathymetry.eu/mean-depth-rainbow-colour-ramp-no-land-data?menu=19.Starting from this data we create a raster tif with best characteristics for a fast and accurate bathymetry image web service.
Single Fused Map Cache: false
Extent:
XMin: -36.0
YMin: 25.0002180703125
XMax: 42.9998736
YMax: 85.0001220703125
Spatial Reference: 4326
(4326)
LatestVCSWkid(0)
Initial Extent:
XMin: -36.0
YMin: 25.0002180703125
XMax: 42.9998736
YMax: 85.0001220703125
Spatial Reference: 4326
(4326)
LatestVCSWkid(0)
Full Extent:
XMin: -36.0
YMin: 25.0002180703125
XMax: 42.9998736
YMax: 85.0001220703125
Spatial Reference: 4326
(4326)
LatestVCSWkid(0)
Pixel Size X: 0.00208333
Pixel Size Y: 0.00208333
Band Count: 1
Pixel Type: S32
RasterFunction Infos: {"rasterFunctionInfos": [
{
"name": "BathymetryStretched",
"description": "A raster function template.",
"help": ""
},
{
"name": "None",
"description": "",
"help": ""
}
]}
Mensuration Capabilities: Basic
Inspection Capabilities:
Has Histograms: true
Has Colormap: false
Has Multi Dimensions : false
Rendering Rule:
Min Scale: 0
Max Scale: 0
Resampling: false
Copyright Text: © European Environment Agency
Service Data Type: esriImageServiceDataTypeGeneric
Min Values: -6809
Max Values: 950
Mean Values: -2019.5819663878
Standard Deviation Values: 1650.5215631961
Object ID Field:
Fields:
None
Default Mosaic Method: Center
Allowed Mosaic Methods:
SortField:
SortValue: null
Mosaic Operator: First
Default Compression Quality: 75
Default Resampling Method: Bilinear
Max Record Count: null
Max Image Height: 4100
Max Image Width: 15000
Max Download Image Count: null
Max Mosaic Image Count: null
Allow Raster Function: true
Allow Copy: true
Allow Analysis: true
Allow Compute TiePoints: false
Supports Statistics: false
Supports Advanced Queries: false
Use StandardizedQueries: true
Raster Type Infos:
Name: Raster Dataset
Description: Supports all ArcGIS Raster Datasets
Help:
Has Raster Attribute Table: false
Edit Fields Info: null
Ownership Based AccessControl For Rasters: null
Child Resources:
Info
Histograms
Statistics
Key Properties
Legend
Raster Function Infos
Supported Operations:
Export Image
Identify
Measure
Compute Histograms
Compute Statistics Histograms
Get Samples
Compute Class Statistics
Query Boundary
Compute Pixel Location
Compute Angles
Validate
Project